BEGIN:VCALENDAR
VERSION:2.0
PRODID:-//wp-events-plugin.com//7.2.3.1//EN
TZID:Europe/Berlin
X-WR-TIMEZONE:Europe/Berlin
BEGIN:VEVENT
UID:3606@ev.kirche-lusan.de
DTSTART;TZID=Europe/Berlin:20241006T100000
DTEND;TZID=Europe/Berlin:20241006T110000
DTSTAMP:20240819T122401Z
URL:https://ev.kirche-lusan.de/veranstaltungen/erntedankfest-12/
SUMMARY:Erntedankfest
DESCRIPTION:1. Tim. 4\, 4 - 5                       
                                      
                                    Kolle
 kte:    Brot für die Welt\n\n&nbsp\;\n\nmit Heiigem Abndmahl
CATEGORIES:Gottesdienste
LOCATION:*Kirche Unterröppisch\, Weidaer Straße\, Gera\, Thüringen\, 075
 51\, Deutschland
X-APPLE-STRUCTURED-LOCATION;VALUE=URI;X-ADDRESS=Weidaer Straße\, Gera\, Th
 üringen\, 07551\, Deutschland;X-APPLE-RADIUS=100;X-TITLE=*Kirche Unterrö
 ppisch:geo:0,0
END:VEVENT
BEGIN:VTIMEZONE
TZID:Europe/Berlin
X-LIC-LOCATION:Europe/Berlin
BEGIN:DAYLIGHT
DTSTART:20240331T030000
TZOFFSETFROM:+0100
TZOFFSETTO:+0200
TZNAME:CEST
END:DAYLIGHT
END:VTIMEZONE
END:VCALENDAR