BEGIN:VCALENDAR
VERSION:2.0
PRODID:-//wp-events-plugin.com//7.2.3.1//EN
TZID:Europe/Berlin
X-WR-TIMEZONE:Europe/Berlin
BEGIN:VEVENT
UID:4792@ev.kirche-lusan.de
DTSTART;TZID=Europe/Berlin:20260524T140000
DTEND;TZID=Europe/Berlin:20260524T153000
DTSTAMP:20260225T153332Z
URL:https://ev.kirche-lusan.de/veranstaltungen/festgottesdienst-mit-konfir
 mation/
SUMMARY:Pfingstgottesdienst mit Konfirmation
DESCRIPTION:Apostelgeschichte 2\,   1 - 21                    
                                                  
 Kollekte:  Kinder- und Jugendfreizeiten\n\n&nbsp\;\n\nmit Heiligem Abendm
 ahl
CATEGORIES:Gottesdienste
LOCATION:*Gemeindezentrum Lusan\, Weidenstrasse 8\, Gera\, Thüringen\, 075
 49\, Deutschland
X-APPLE-STRUCTURED-LOCATION;VALUE=URI;X-ADDRESS=Weidenstrasse 8\, Gera\, Th
 üringen\, 07549\, Deutschland;X-APPLE-RADIUS=100;X-TITLE=*Gemeindezentrum
  Lusan:geo:0,0
END:VEVENT
BEGIN:VTIMEZONE
TZID:Europe/Berlin
X-LIC-LOCATION:Europe/Berlin
BEGIN:DAYLIGHT
DTSTART:20260329T030000
TZOFFSETFROM:+0100
TZOFFSETTO:+0200
TZNAME:CEST
END:DAYLIGHT
END:VTIMEZONE
END:VCALENDAR