BEGIN:VCALENDAR
VERSION:2.0
PRODID:-//wp-events-plugin.com//7.2.3.1//EN
TZID:Europe/Berlin
X-WR-TIMEZONE:Europe/Berlin
BEGIN:VEVENT
UID:3617@ev.kirche-lusan.de
DTSTART;TZID=Europe/Berlin:20241110T100000
DTEND;TZID=Europe/Berlin:20241110T110000
DTSTAMP:20240819T152530Z
URL:https://ev.kirche-lusan.de/veranstaltungen/gottesdienst-396/
SUMMARY:Gottesdienst
DESCRIPTION:Micha.   1 - 5                        
                                      
                                Kollekte:      
  Lothar-Kreyssig-Zentrum\n\nmit Heiligem Abendmahl
CATEGORIES:Gottesdienste
LOCATION:*Gemeindezentrum Lusan\, Weidenstrasse 8\, Gera\, Thüringen\, 075
 49\, Deutschland
X-APPLE-STRUCTURED-LOCATION;VALUE=URI;X-ADDRESS=Weidenstrasse 8\, Gera\, Th
 üringen\, 07549\, Deutschland;X-APPLE-RADIUS=100;X-TITLE=*Gemeindezentrum
  Lusan:geo:0,0
END:VEVENT
BEGIN:VTIMEZONE
TZID:Europe/Berlin
X-LIC-LOCATION:Europe/Berlin
BEGIN:STANDARD
DTSTART:20241027T020000
TZOFFSETFROM:+0200
TZOFFSETTO:+0100
TZNAME:CET
END:STANDARD
END:VTIMEZONE
END:VCALENDAR