BEGIN:VCALENDAR
VERSION:2.0
PRODID:-//wp-events-plugin.com//7.2.3.1//EN
TZID:Europe/Berlin
X-WR-TIMEZONE:Europe/Berlin
BEGIN:VEVENT
UID:4359@ev.kirche-lusan.de
DTSTART;TZID=Europe/Berlin:20250803T100000
DTEND;TZID=Europe/Berlin:20250803T110000
DTSTAMP:20250531T075735Z
URL:https://ev.kirche-lusan.de/veranstaltungen/gottesdienst-427/
SUMMARY:Gottesdienst
DESCRIPTION:Johannes 6\, 30 - 35                      
                                      
                                      
  Kollekte:     Weiterbildung Hospizbegleiter\n\nmit Heiligem Abendmahl
CATEGORIES:Gottesdienste
LOCATION:*Kirche Sankt Ursula\, Lusaner Straße 15\, Gera\, Thüringen\, 07
 549\, Deutschland
X-APPLE-STRUCTURED-LOCATION;VALUE=URI;X-ADDRESS=Lusaner Straße 15\, Gera\,
  Thüringen\, 07549\, Deutschland;X-APPLE-RADIUS=100;X-TITLE=*Kirche Sankt
  Ursula:geo:0,0
END:VEVENT
BEGIN:VTIMEZONE
TZID:Europe/Berlin
X-LIC-LOCATION:Europe/Berlin
BEGIN:DAYLIGHT
DTSTART:20250330T030000
TZOFFSETFROM:+0100
TZOFFSETTO:+0200
TZNAME:CEST
END:DAYLIGHT
END:VTIMEZONE
END:VCALENDAR