BEGIN:VCALENDAR
VERSION:2.0
PRODID:-//wp-events-plugin.com//7.2.3.1//EN
TZID:Europe/Berlin
X-WR-TIMEZONE:Europe/Berlin
BEGIN:VEVENT
UID:4787@ev.kirche-lusan.de
DTSTART;TZID=Europe/Berlin:20260426T100000
DTEND;TZID=Europe/Berlin:20260426T110000
DTSTAMP:20260225T152259Z
URL:https://ev.kirche-lusan.de/veranstaltungen/gottesdienst-abschluss-der-
 bibelwoche/
SUMMARY:Gottesdienst - Abschluß der Bibelwoche
DESCRIPTION:Ester 9 \,  20 -  10\, 3       EINE FRAGE DES ERINNERNS 
                                                  
                                      Kollekte:   Land
 esgartenschau\n\nDas PURIM -Fest- ein Fest für alle Generationen  &amp\;
  Gebet der Ester: "Befreie die Verzweifelten aus der Macht des Bösen."\n\
 n&nbsp\;\n\nmit Heiligem Abendmahl\n\n&nbsp\;\n\n&nbsp\;
CATEGORIES:Gottesdienste
LOCATION:*Gemeindezentrum Lusan\, Weidenstrasse 8\, Gera\, Thüringen\, 075
 49\, Deutschland
X-APPLE-STRUCTURED-LOCATION;VALUE=URI;X-ADDRESS=Weidenstrasse 8\, Gera\, Th
 üringen\, 07549\, Deutschland;X-APPLE-RADIUS=100;X-TITLE=*Gemeindezentrum
  Lusan:geo:0,0
END:VEVENT
BEGIN:VTIMEZONE
TZID:Europe/Berlin
X-LIC-LOCATION:Europe/Berlin
BEGIN:DAYLIGHT
DTSTART:20260329T030000
TZOFFSETFROM:+0100
TZOFFSETTO:+0200
TZNAME:CEST
END:DAYLIGHT
END:VTIMEZONE
END:VCALENDAR