BEGIN:VCALENDAR
VERSION:2.0
PRODID:-//wp-events-plugin.com//7.2.3.1//EN
TZID:Europe/Berlin
X-WR-TIMEZONE:Europe/Berlin
BEGIN:VEVENT
UID:3937@ev.kirche-lusan.de
DTSTART;TZID=Europe/Berlin:20241130T183000
DTEND;TZID=Europe/Berlin:20241130T193000
DTSTAMP:20241121T162110Z
URL:https://ev.kirche-lusan.de/veranstaltungen/gottesdienst-zur-oekumen-er
 oeffnung-des-kirchenjahres-in-der-salvatorkirche/
SUMMARY:Gottesdienst zur Ökumen.Eröffnung des Kirchenjahres in der Salvat
 orkirche
DESCRIPTION:
CATEGORIES:Gottesdienste in der Woche
LOCATION:Kirche St. Salvator\, Nikolaiberg\, Gera\, Thür.\, 07545\, Deutsc
 hland
X-APPLE-STRUCTURED-LOCATION;VALUE=URI;X-ADDRESS=Nikolaiberg\, Gera\, Thür.
 \, 07545\, Deutschland;X-APPLE-RADIUS=100;X-TITLE=Kirche St. Salvator:geo:
 0,0
END:VEVENT
BEGIN:VTIMEZONE
TZID:Europe/Berlin
X-LIC-LOCATION:Europe/Berlin
BEGIN:STANDARD
DTSTART:20241027T020000
TZOFFSETFROM:+0200
TZOFFSETTO:+0100
TZNAME:CET
END:STANDARD
END:VTIMEZONE
END:VCALENDAR