BEGIN:VCALENDAR
VERSION:2.0
PRODID:-//wp-events-plugin.com//7.2.3.1//EN
TZID:Europe/Berlin
X-WR-TIMEZONE:Europe/Berlin
BEGIN:VEVENT
UID:4837@ev.kirche-lusan.de
DTSTART;TZID=Europe/Berlin:20260402T100000
DTEND;TZID=Europe/Berlin:20260402T210000
DTSTAMP:20260225T141112Z
URL:https://ev.kirche-lusan.de/veranstaltungen/konfirmandentreff/
SUMMARY:Konfirmandentreff
DESCRIPTION:Vorbereitung des Sederabends und Durchführung des Sederabends
CATEGORIES:Kinder und Jugend
LOCATION:*Gemeindezentrum Lusan\, Weidenstrasse 8\, Gera\, Thüringen\, 075
 49\, Deutschland
X-APPLE-STRUCTURED-LOCATION;VALUE=URI;X-ADDRESS=Weidenstrasse 8\, Gera\, Th
 üringen\, 07549\, Deutschland;X-APPLE-RADIUS=100;X-TITLE=*Gemeindezentrum
  Lusan:geo:0,0
END:VEVENT
BEGIN:VTIMEZONE
TZID:Europe/Berlin
X-LIC-LOCATION:Europe/Berlin
BEGIN:DAYLIGHT
DTSTART:20260329T030000
TZOFFSETFROM:+0100
TZOFFSETTO:+0200
TZNAME:CEST
END:DAYLIGHT
END:VTIMEZONE
END:VCALENDAR