BEGIN:VCALENDAR
VERSION:2.0
PRODID:-//wp-events-plugin.com//7.2.3.1//EN
TZID:Europe/Berlin
X-WR-TIMEZONE:Europe/Berlin
BEGIN:VEVENT
UID:3955@ev.kirche-lusan.de
DTSTART;TZID=Europe/Berlin:20241215T170000
DTEND;TZID=Europe/Berlin:20241215T180000
DTSTAMP:20241121T163450Z
URL:https://ev.kirche-lusan.de/veranstaltungen/lichterandacht-zum-3-advent
 /
SUMMARY:Lichterandacht zum 3. Advent
DESCRIPTION:&nbsp\;\n\nRömer 15\, 4 - 13                 
                                      
                              Kollekte:   Pos
 aunenwerk der EKM
CATEGORIES:Gottesdienste
LOCATION:*Kirche Dürrenebersdorf\, Schmiedestrasse\, Gera - Dürrenebersdo
 rf\, Thüringen\, 07548\, Deutschland
X-APPLE-STRUCTURED-LOCATION;VALUE=URI;X-ADDRESS=Schmiedestrasse\, Gera - D
 ürrenebersdorf\, Thüringen\, 07548\, Deutschland;X-APPLE-RADIUS=100;X-TI
 TLE=*Kirche Dürrenebersdorf:geo:0,0
END:VEVENT
BEGIN:VTIMEZONE
TZID:Europe/Berlin
X-LIC-LOCATION:Europe/Berlin
BEGIN:STANDARD
DTSTART:20241027T020000
TZOFFSETFROM:+0200
TZOFFSETTO:+0100
TZNAME:CET
END:STANDARD
END:VTIMEZONE
END:VCALENDAR