BEGIN:VCALENDAR
VERSION:2.0
PRODID:-//wp-events-plugin.com//7.2.3.1//EN
TZID:Europe/Berlin
X-WR-TIMEZONE:Europe/Berlin
BEGIN:VEVENT
UID:2965@ev.kirche-lusan.de
DTSTART;TZID=Europe/Berlin:20240106T180000
DTEND;TZID=Europe/Berlin:20240106T200000
DTSTAMP:20231201T122322Z
URL:https://ev.kirche-lusan.de/veranstaltungen/musikalischer-gottesdienst-
 mit-mini-weihnachtoratorium/
SUMMARY:Musikalischer Gottesdienst mit Mini-Weihnachtoratorium zu Epiphania
 s
DESCRIPTION:Wir hören das "Miniatorium" von B. Schweitzer    vom  "Ense
 mble Courage" aus Dresden.\n\nSie werden uns am Epiphanias - Fest das Weih
 nachtsoratorium von J. S. Bach\, gekürzt auf  1\,5  Stunden\,  für\n\
 neine Sängerin\,  Oboen\, Akkordeon und Cello\n\nzu Gehör bringen.\n\n&
 nbsp\;\n\nLukas 2 und Matthäus 2                    
                                      
                                      
    Kollekte: Schaustellerseelsorge
CATEGORIES:Gottesdienste,Kirchenmusik
LOCATION:*Gemeindezentrum Lusan\, Weidenstrasse 8\, Gera\, Thüringen\, 075
 49\, Deutschland
X-APPLE-STRUCTURED-LOCATION;VALUE=URI;X-ADDRESS=Weidenstrasse 8\, Gera\, Th
 üringen\, 07549\, Deutschland;X-APPLE-RADIUS=100;X-TITLE=*Gemeindezentrum
  Lusan:geo:0,0
END:VEVENT
BEGIN:VTIMEZONE
TZID:Europe/Berlin
X-LIC-LOCATION:Europe/Berlin
BEGIN:STANDARD
DTSTART:20231029T020000
TZOFFSETFROM:+0200
TZOFFSETTO:+0100
TZNAME:CET
END:STANDARD
END:VTIMEZONE
END:VCALENDAR