BEGIN:VCALENDAR
VERSION:2.0
PRODID:-//wp-events-plugin.com//7.2.3.1//EN
TZID:Europe/Berlin
X-WR-TIMEZONE:Europe/Berlin
BEGIN:VEVENT
UID:4806@ev.kirche-lusan.de
DTSTART;TZID=Europe/Berlin:20260329T163000
DTEND;TZID=Europe/Berlin:20260329T164500
DTSTAMP:20260225T105112Z
URL:https://ev.kirche-lusan.de/veranstaltungen/oekumenischer-kreuzweg-mit-
 andachten-20/
SUMMARY:Ökumenischer Kreuzweg mit Andachten
DESCRIPTION:
CATEGORIES:Erwachsene und Senioren,Kinder und Jugend
LOCATION:*Kirche Dürrenebersdorf\, Schmiedestrasse\, Gera - Dürrenebersdo
 rf\, Thüringen\, 07548\, Deutschland
X-APPLE-STRUCTURED-LOCATION;VALUE=URI;X-ADDRESS=Schmiedestrasse\, Gera - D
 ürrenebersdorf\, Thüringen\, 07548\, Deutschland;X-APPLE-RADIUS=100;X-TI
 TLE=*Kirche Dürrenebersdorf:geo:0,0
END:VEVENT
BEGIN:VTIMEZONE
TZID:Europe/Berlin
X-LIC-LOCATION:Europe/Berlin
BEGIN:DAYLIGHT
DTSTART:20260329T030000
TZOFFSETFROM:+0100
TZOFFSETTO:+0200
TZNAME:CEST
END:DAYLIGHT
END:VTIMEZONE
END:VCALENDAR