BEGIN:VCALENDAR
VERSION:2.0
PRODID:-//wp-events-plugin.com//7.2.3.1//EN
TZID:Europe/Berlin
X-WR-TIMEZONE:Europe/Berlin
BEGIN:VEVENT
UID:4798@ev.kirche-lusan.de
DTSTART;TZID=Europe/Berlin:20260311T180000
DTEND;TZID=Europe/Berlin:20260311T183000
DTSTAMP:20260225T104420Z
URL:https://ev.kirche-lusan.de/veranstaltungen/passionsandacht-2/
SUMMARY:Passionsandacht
DESCRIPTION:7 Wochen ohne Härte
CATEGORIES:Erwachsene und Senioren
LOCATION:*Kirche Sankt Ursula\, Lusaner Straße 15\, Gera\, Thüringen\, 07
 549\, Deutschland
X-APPLE-STRUCTURED-LOCATION;VALUE=URI;X-ADDRESS=Lusaner Straße 15\, Gera\,
  Thüringen\, 07549\, Deutschland;X-APPLE-RADIUS=100;X-TITLE=*Kirche Sankt
  Ursula:geo:0,0
END:VEVENT
BEGIN:VTIMEZONE
TZID:Europe/Berlin
X-LIC-LOCATION:Europe/Berlin
BEGIN:STANDARD
DTSTART:20251026T020000
TZOFFSETFROM:+0200
TZOFFSETTO:+0100
TZNAME:CET
END:STANDARD
END:VTIMEZONE
END:VCALENDAR