BEGIN:VCALENDAR
VERSION:2.0
PRODID:-//wp-events-plugin.com//7.2.3.1//EN
TZID:Europe/Berlin
X-WR-TIMEZONE:Europe/Berlin
BEGIN:VEVENT
UID:4834@ev.kirche-lusan.de
DTSTART;TZID=Europe/Berlin:20260325T190000
DTEND;TZID=Europe/Berlin:20260325T210000
DTSTAMP:20260225T140549Z
URL:https://ev.kirche-lusan.de/veranstaltungen/stammtisch/
SUMMARY:Stammtisch
DESCRIPTION:
CATEGORIES:Erwachsene und Senioren
LOCATION:Apart-Hotel Dürrenebersdorf\, Hofer Str. 5\, Dürrenebersdorf\, T
 hüringen\, 07551\, Deutschland
X-APPLE-STRUCTURED-LOCATION;VALUE=URI;X-ADDRESS=Hofer Str. 5\, Dürrenebers
 dorf\, Thüringen\, 07551\, Deutschland;X-APPLE-RADIUS=100;X-TITLE=Apart-H
 otel Dürrenebersdorf:geo:0,0
END:VEVENT
BEGIN:VTIMEZONE
TZID:Europe/Berlin
X-LIC-LOCATION:Europe/Berlin
BEGIN:STANDARD
DTSTART:20251026T020000
TZOFFSETFROM:+0200
TZOFFSETTO:+0100
TZNAME:CET
END:STANDARD
END:VTIMEZONE
END:VCALENDAR